BEGIN:VCALENDAR
VERSION:2.0
PRODID:-//Ryser&#039;s - ECPv6.15.17//NONSGML v1.0//EN
CALSCALE:GREGORIAN
METHOD:PUBLISH
X-ORIGINAL-URL:https://ryserslandscapesupply.com
X-WR-CALDESC:Events for Ryser&#039;s
REFRESH-INTERVAL;VALUE=DURATION:PT1H
X-Robots-Tag:noindex
X-PUBLISHED-TTL:PT1H
BEGIN:VTIMEZONE
TZID:America/New_York
BEGIN:DAYLIGHT
TZOFFSETFROM:-0500
TZOFFSETTO:-0400
TZNAME:EDT
DTSTART:20250309T070000
END:DAYLIGHT
BEGIN:STANDARD
TZOFFSETFROM:-0400
TZOFFSETTO:-0500
TZNAME:EST
DTSTART:20251102T060000
END:STANDARD
BEGIN:DAYLIGHT
TZOFFSETFROM:-0500
TZOFFSETTO:-0400
TZNAME:EDT
DTSTART:20260308T070000
END:DAYLIGHT
BEGIN:STANDARD
TZOFFSETFROM:-0400
TZOFFSETTO:-0500
TZNAME:EST
DTSTART:20261101T060000
END:STANDARD
BEGIN:DAYLIGHT
TZOFFSETFROM:-0500
TZOFFSETTO:-0400
TZNAME:EDT
DTSTART:20270314T070000
END:DAYLIGHT
BEGIN:STANDARD
TZOFFSETFROM:-0400
TZOFFSETTO:-0500
TZNAME:EST
DTSTART:20271107T060000
END:STANDARD
END:VTIMEZONE
BEGIN:VEVENT
DTSTART;VALUE=DATE:20260302
DTEND;VALUE=DATE:20260501
DTSTAMP:20260422T194613
CREATED:20260320T200426Z
LAST-MODIFIED:20260320T200426Z
UID:10000073-1772409600-1777593599@ryserslandscapesupply.com
SUMMARY:$50 Instant Rebate on RedMax String Trimmers – Limited Time
DESCRIPTION:$50 Instant Rebate on RedMax String Trimmers – Limited Time\nSave $50 on BCZ265S and BCZ265TS trimmers now through April 30. \nTake advantage of a limited-time offer on professional-grade RedMax string trimmers at Ryser’s Landscape Supply. From March 2 through April 30\, get an instant $50 rebate on select models built for power\, durability\, and everyday use. \nThe BCZ265S is now available for $380.99\, down from $430.99\, and the BCZ265TS is now $390.99\, down from $440.99. These trimmers are designed for reliable performance and are a great fit for both professionals and serious homeowners looking for dependable equipment. \nThis offer cannot be combined with other promotions and is available while supplies last. Stop by Ryser’s to see these models in stock and take advantage of the savings before the promotion ends. \n\nRyser’s Landscape Supply145 White Road\, Little Silver\, NJ732-741-8338ryserslandscapesupply.com
URL:https://ryserslandscapesupply.com/event/50-instant-rebate-on-redmax-string-trimmers-limited-time/
ATTACH;FMTTYPE=image/jpeg:https://ryserslandscapesupply.com/wp-content/uploads/2026/03/RedMax_String_Trimmer_50_Rebate_Flyer_edit.jpg
END:VEVENT
BEGIN:VEVENT
DTSTART;TZID=America/New_York:20260321T100000
DTEND;TZID=America/New_York:20260321T150000
DTSTAMP:20260422T194613
CREATED:20260206T165533Z
LAST-MODIFIED:20260302T184015Z
UID:10000070-1774087200-1774105200@ryserslandscapesupply.com
SUMMARY:Easter Bunny Visits + Cookie Truck at Ryser’s Landscape Supply
DESCRIPTION:Saturday\, March 21 – Easter Bunny Visit + Cookie Truck\nJoin us on Saturday\, March 21 from 11am to 2pm for a special Easter event at Ryser’s Landscape Supply. The Easter Bunny will be here to meet families\, take photos\, and hand out prizes to all children. No pre registration is required. \nWe are also welcoming a cookie truck for this date only. Stop by\, grab a treat\, and enjoy a fun afternoon with the whole family. There will be a short break from 12:30pm to 1pm\, but the Bunny will be back hopping and ready for photos right after. \nBring the kids\, bring your camera\, and make it part of your weekend plans.
URL:https://ryserslandscapesupply.com/event/easter-bunny-visits-at-rysers-landscape-supply/
ATTACH;FMTTYPE=image/jpeg:https://ryserslandscapesupply.com/wp-content/uploads/2026/02/march-21-bunny.jpg
END:VEVENT
END:VCALENDAR