BEGIN:VCALENDAR
VERSION:2.0
PRODID:-//Ryser&#039;s - ECPv6.15.17//NONSGML v1.0//EN
CALSCALE:GREGORIAN
METHOD:PUBLISH
X-WR-CALNAME:Ryser&#039;s
X-ORIGINAL-URL:https://ryserslandscapesupply.com
X-WR-CALDESC:Events for Ryser&#039;s
REFRESH-INTERVAL;VALUE=DURATION:PT1H
X-Robots-Tag:noindex
X-PUBLISHED-TTL:PT1H
BEGIN:VTIMEZONE
TZID:America/New_York
BEGIN:DAYLIGHT
TZOFFSETFROM:-0500
TZOFFSETTO:-0400
TZNAME:EDT
DTSTART:20220313T070000
END:DAYLIGHT
BEGIN:STANDARD
TZOFFSETFROM:-0400
TZOFFSETTO:-0500
TZNAME:EST
DTSTART:20221106T060000
END:STANDARD
BEGIN:DAYLIGHT
TZOFFSETFROM:-0500
TZOFFSETTO:-0400
TZNAME:EDT
DTSTART:20230312T070000
END:DAYLIGHT
BEGIN:STANDARD
TZOFFSETFROM:-0400
TZOFFSETTO:-0500
TZNAME:EST
DTSTART:20231105T060000
END:STANDARD
BEGIN:DAYLIGHT
TZOFFSETFROM:-0500
TZOFFSETTO:-0400
TZNAME:EDT
DTSTART:20240310T070000
END:DAYLIGHT
BEGIN:STANDARD
TZOFFSETFROM:-0400
TZOFFSETTO:-0500
TZNAME:EST
DTSTART:20241103T060000
END:STANDARD
END:VTIMEZONE
BEGIN:VEVENT
DTSTART;TZID=America/New_York:20230325T110000
DTEND;TZID=America/New_York:20230325T140000
DTSTAMP:20260423T175409
CREATED:20230227T200645Z
LAST-MODIFIED:20260105T190743Z
UID:10000001-1679742000-1679752800@ryserslandscapesupply.com
SUMMARY:Rescue Ridge Shelter Event
DESCRIPTION:Rescue Ridge Shelter Event Saturday March 25th. 11-2 Rescue Ridge Shelter is coming in with dogs and cats – Are you looking for a new furry friend to brighten up your life? Come to our Rescue Ridge Shelter event on Saturday\, March 25th from 11am to 2pm! We’ll be hosting a meet and greet with dogs and cats from Rescue Ridge Shelter. This is a great opportunity to find your new companion and give them a loving forever home. Spread the word and let’s give these animals a chance to find their forever homes! 🐾❤️
URL:https://ryserslandscapesupply.com/event/rescue-ridge-shelter-event/
END:VEVENT
END:VCALENDAR