BEGIN:VCALENDAR
VERSION:2.0
PRODID:-//Ryser&#039;s - ECPv6.15.17//NONSGML v1.0//EN
CALSCALE:GREGORIAN
METHOD:PUBLISH
X-ORIGINAL-URL:https://ryserslandscapesupply.com
X-WR-CALDESC:Events for Ryser&#039;s
REFRESH-INTERVAL;VALUE=DURATION:PT1H
X-Robots-Tag:noindex
X-PUBLISHED-TTL:PT1H
BEGIN:VTIMEZONE
TZID:America/New_York
BEGIN:DAYLIGHT
TZOFFSETFROM:-0500
TZOFFSETTO:-0400
TZNAME:EDT
DTSTART:20250309T070000
END:DAYLIGHT
BEGIN:STANDARD
TZOFFSETFROM:-0400
TZOFFSETTO:-0500
TZNAME:EST
DTSTART:20251102T060000
END:STANDARD
BEGIN:DAYLIGHT
TZOFFSETFROM:-0500
TZOFFSETTO:-0400
TZNAME:EDT
DTSTART:20260308T070000
END:DAYLIGHT
BEGIN:STANDARD
TZOFFSETFROM:-0400
TZOFFSETTO:-0500
TZNAME:EST
DTSTART:20261101T060000
END:STANDARD
BEGIN:DAYLIGHT
TZOFFSETFROM:-0500
TZOFFSETTO:-0400
TZNAME:EDT
DTSTART:20270314T070000
END:DAYLIGHT
BEGIN:STANDARD
TZOFFSETFROM:-0400
TZOFFSETTO:-0500
TZNAME:EST
DTSTART:20271107T060000
END:STANDARD
END:VTIMEZONE
BEGIN:VEVENT
DTSTART;TZID=America/New_York:20260225T093000
DTEND;TZID=America/New_York:20260225T120000
DTSTAMP:20260422T194746
CREATED:20260212T173725Z
LAST-MODIFIED:20260221T190240Z
UID:10000072-1772011800-1772020800@ryserslandscapesupply.com
SUMMARY:POSTPONED - ARDEX Pro-Event at Ryser’s – Exterior Tile & Stone Systems Demo
DESCRIPTION:We want to let everyone know that the ARDEX Pro-Event originally scheduled for February 25th at Ryser’s Landscape Supply has been postponed.\nWe are currently working with the ARDEX team to confirm a new date. As soon as the rescheduled date is finalized\, we will notify you right away with full event details.\nWe appreciate your understanding and look forward to hosting this hands-on Exterior Tile & Stone Systems training soon.\n\n\n  \nDon’t miss this in-depth training event featuring ARDEX Exterior Tile & Stone Systems. Learn directly from ARDEX experts about the latest drainage systems\, concrete repair\, and stone veneer solutions. This session includes classroom and hands-on learning\, plus lunch and swag giveaways.\nTopics Covered: \n\nARDEX Drainage Systems: Pro Drain\, Watec\, TSL Pedestals\nARDEX Concrete Restoration: CP\, CG\, CD (Concrete Dressing)\nARDEX Concrete Repair: B24 Ramping and B40 Trench Repair\nARDEX Stone Veneer Systems: X5 and X77 Mortars\n\nEvent Details: \n\nClassroom and hands-on demos\nLunch and swag give-aways\nLed by ARDEX Sales Professional Tom Quackenbush\nRSVP required: (732) 741-8338 or devin@rysersnj.com\n\nGet expert insights\, connect with other pros\, and boost your skills with ARDEX and Ryser’s.\nQuestions?\nCall 732-741-8338 or devin@rysersnj.com \nReserve your spot now – space is limited!
URL:https://ryserslandscapesupply.com/event/ardex-pro-event-at-rysers-exterior-tile-stone-systems-demo/
ATTACH;FMTTYPE=image/jpeg:https://ryserslandscapesupply.com/wp-content/uploads/2026/02/ardex-event-rysers-1.jpg
END:VEVENT
END:VCALENDAR